BEGIN:VCALENDAR
PRODID:-//Konrad Rosenbaum//NONSGML DREAMS 0.1//EN
VERSION:2.0
BEGIN:VEVENT
DTSTAMP:20260421T122815Z
UID:DREAMS-62_69
LAST-MODIFIED:20260421T122815Z
SUMMARY:Eröffnungsrede: subversion - was wir immer schon von cvs wollten, ab
 er nie zu sehen bekamen
DESCRIPTION:Referent: Prof. Dr. Uwe Aßmann\nInfo: http://www.six.linuxinfota
 g.de/62/detail/69
LOCATION:TRE Mathematik-Hörsaal
DTSTART:20051029T073000Z
DTEND:20051029T080000Z
END:VEVENT
BEGIN:VEVENT
DTSTAMP:20260421T122815Z
UID:DREAMS-62_39
LAST-MODIFIED:20260421T122815Z
SUMMARY:Python-Einführung
DESCRIPTION:Referent: Thomas Güttler\nInfo: http://www.six.linuxinfotag.de/6
 2/detail/39
LOCATION:BZW/A152
DTSTART:20051029T081500Z
DTEND:20051029T111500Z
END:VEVENT
BEGIN:VEVENT
DTSTAMP:20260421T122815Z
UID:DREAMS-62_55
LAST-MODIFIED:20260421T122815Z
SUMMARY:Die Z-Shell
DESCRIPTION:Referent: Sven Guckes\nInfo: http://www.six.linuxinfotag.de/62/d
 etail/55
LOCATION:BZW/A159
DTSTART:20051029T081500Z
DTEND:20051029T111500Z
END:VEVENT
BEGIN:VEVENT
DTSTAMP:20260421T122815Z
UID:DREAMS-62_36
LAST-MODIFIED:20260421T122815Z
SUMMARY:Sicherheit
DESCRIPTION:Referent: Michael Roitzsch\nInfo: http://www.six.linuxinfotag.de
 /62/detail/36
LOCATION:BZW/A251
DTSTART:20051029T081500Z
DTEND:20051029T111500Z
END:VEVENT
BEGIN:VEVENT
DTSTAMP:20260421T122815Z
UID:DREAMS-62_51
LAST-MODIFIED:20260421T122815Z
SUMMARY:Meßwerterfassung und -auswertung mit Linux/freier Software
DESCRIPTION:Referent: Konrad Riedel\nInfo: http://www.six.linuxinfotag.de/62
 /detail/51
LOCATION:BZW/A150
DTSTART:20051029T081500Z
DTEND:20051029T104500Z
END:VEVENT
BEGIN:VEVENT
DTSTAMP:20260421T122815Z
UID:DREAMS-62_40
LAST-MODIFIED:20260421T122815Z
SUMMARY:Entwicklung komponentenbasierter Software mit OSGi
DESCRIPTION:Referent: Jens Kutzsche\nInfo: http://www.six.linuxinfotag.de/62
 /detail/40
LOCATION:BZW/A154
DTSTART:20051029T081500Z
DTEND:20051029T111500Z
END:VEVENT
BEGIN:VEVENT
DTSTAMP:20260421T122815Z
UID:DREAMS-62_62
LAST-MODIFIED:20260421T122815Z
SUMMARY:Cluster bauen für Anfänger
DESCRIPTION:Referent: Jens Weiße\nInfo: http://www.six.linuxinfotag.de/62/de
 tail/62
LOCATION:WIL/A317
DTSTART:20051029T081500Z
DTEND:20051029T090000Z
END:VEVENT
BEGIN:VEVENT
DTSTAMP:20260421T122815Z
UID:DREAMS-62_34
LAST-MODIFIED:20260421T122815Z
SUMMARY:Einführung in die PHP-Programmierung
DESCRIPTION:Referent: Falk Döring\nInfo: http://www.six.linuxinfotag.de/62/d
 etail/34
LOCATION:BZW/A253
DTSTART:20051029T081500Z
DTEND:20051029T111500Z
END:VEVENT
BEGIN:VEVENT
DTSTAMP:20260421T122815Z
UID:DREAMS-62_58
LAST-MODIFIED:20260421T122815Z
SUMMARY:1,2,Typo3 - Contentmanagement leicht gemacht
DESCRIPTION:Referent: Michael Lehnert\nInfo: http://www.six.linuxinfotag.de/
 62/detail/58
LOCATION:TRE Mathematik-Hörsaal
DTSTART:20051029T081500Z
DTEND:20051029T090000Z
END:VEVENT
BEGIN:VEVENT
DTSTAMP:20260421T122815Z
UID:DREAMS-62_50
LAST-MODIFIED:20260421T122815Z
SUMMARY:Verschlüsselung mit GnuPG
DESCRIPTION:Referent: Frank Bindrich\nInfo: http://www.six.linuxinfotag.de/6
 2/detail/50
LOCATION:BZW/A153
DTSTART:20051029T081500Z
DTEND:20051029T094500Z
END:VEVENT
BEGIN:VEVENT
DTSTAMP:20260421T122815Z
UID:DREAMS-62_60
LAST-MODIFIED:20260421T122815Z
SUMMARY:Installparty
DESCRIPTION:Referent: Kristian Rink\nInfo: http://www.six.linuxinfotag.de/62
 /detail/60
LOCATION:TRE/Foyer
DTSTART:20051029T081500Z
DTEND:20051029T161500Z
END:VEVENT
BEGIN:VEVENT
DTSTAMP:20260421T122815Z
UID:DREAMS-62_47
LAST-MODIFIED:20260421T122815Z
SUMMARY:Access ohne Access - Freie Datenbank-Frontends
DESCRIPTION:Referent: Peter Eisentraut\nInfo: http://www.six.linuxinfotag.de
 /62/detail/47
LOCATION:TRE Physik-Hörsaal
DTSTART:20051029T081500Z
DTEND:20051029T090000Z
END:VEVENT
BEGIN:VEVENT
DTSTAMP:20260421T122815Z
UID:DREAMS-62_53
LAST-MODIFIED:20260421T122815Z
SUMMARY:Effiziente Nutzerverwaltung mit LDAP
DESCRIPTION:Referent: Reiner Klaproth\nInfo: http://www.six.linuxinfotag.de/
 62/detail/53
LOCATION:TRE Mathematik-Hörsaal
DTSTART:20051029T091500Z
DTEND:20051029T100000Z
END:VEVENT
BEGIN:VEVENT
DTSTAMP:20260421T122815Z
UID:DREAMS-62_32
LAST-MODIFIED:20260421T122815Z
SUMMARY:Website Meta Language - Webseiten generieren nach Unix-Art
DESCRIPTION:Referent: Axel Beckert\nInfo: http://www.six.linuxinfotag.de/62/
 detail/32
LOCATION:WIL/A317
DTSTART:20051029T091500Z
DTEND:20051029T100000Z
END:VEVENT
BEGIN:VEVENT
DTSTAMP:20260421T122815Z
UID:DREAMS-62_44
LAST-MODIFIED:20260421T122815Z
SUMMARY:Linux - Warum ein Pinguin die Welt erobert
DESCRIPTION:Referent: Tobias König\nInfo: http://www.six.linuxinfotag.de/62/
 detail/44
LOCATION:TRE Physik-Hörsaal
DTSTART:20051029T091500Z
DTEND:20051029T100000Z
END:VEVENT
BEGIN:VEVENT
DTSTAMP:20260421T122815Z
UID:DREAMS-62_68
LAST-MODIFIED:20260421T122815Z
SUMMARY:Attraktive Benutzerbetreuung für Schulnetzwerke \r\n- CipUX unter De
 bian-Edu/Skolelinux
DESCRIPTION:Referent: Christian Kuelker\nInfo: http://www.six.linuxinfotag.d
 e/62/detail/68
LOCATION:TRE Mathematik-Hörsaal
DTSTART:20051029T101500Z
DTEND:20051029T110000Z
END:VEVENT
BEGIN:VEVENT
DTSTAMP:20260421T122815Z
UID:DREAMS-62_73
LAST-MODIFIED:20260421T122815Z
SUMMARY:Einbruchserkennung in Netzwerke mit IDS & Honeypots
DESCRIPTION:Referent: Stefan Schumacher\nInfo: http://www.six.linuxinfotag.d
 e/62/detail/73
LOCATION:TRE Physik-Hörsaal
DTSTART:20051029T101500Z
DTEND:20051029T110000Z
END:VEVENT
BEGIN:VEVENT
DTSTAMP:20260421T122815Z
UID:DREAMS-62_74
LAST-MODIFIED:20260421T122815Z
SUMMARY:Einbruchserkennung in Netzwerke mit IDS & Honeypots
DESCRIPTION:Referent: Stefan Schumacher\nInfo: http://www.six.linuxinfotag.d
 e/62/detail/74
LOCATION:TRE Physik-Hörsaal
DTSTART:20051029T101500Z
DTEND:20051029T110000Z
END:VEVENT
BEGIN:VEVENT
DTSTAMP:20260421T122815Z
UID:DREAMS-62_57
LAST-MODIFIED:20260421T122815Z
SUMMARY:Verdeckte Kommunikation für den Amateurfunk und die Programmierumgeb
 ung R
DESCRIPTION:Referent: Andreas Westfeld\nInfo: http://www.six.linuxinfotag.de
 /62/detail/57
LOCATION:WIL/A317
DTSTART:20051029T101500Z
DTEND:20051029T110000Z
END:VEVENT
BEGIN:VEVENT
DTSTAMP:20260421T122815Z
UID:DREAMS-62_41
LAST-MODIFIED:20260421T122815Z
SUMMARY:AUSGEFALLEN: *BSD - Alternativen zu Linux
DESCRIPTION:Referent: Karl Uwe Lockhoff\nInfo: http://www.six.linuxinfotag.d
 e/62/detail/41
LOCATION:BZW A153
DTSTART:20051029T101500Z
DTEND:20051029T110000Z
END:VEVENT
BEGIN:VEVENT
DTSTAMP:20260421T122815Z
UID:DREAMS-62_38
LAST-MODIFIED:20260421T122815Z
SUMMARY:PostgreSQL
DESCRIPTION:Referent: Andreas Kretschmer\nInfo: http://www.six.linuxinfotag.
 de/62/detail/38
LOCATION:BZW/A253
DTSTART:20051029T114500Z
DTEND:20051029T144500Z
END:VEVENT
BEGIN:VEVENT
DTSTAMP:20260421T122815Z
UID:DREAMS-62_63
LAST-MODIFIED:20260421T122815Z
SUMMARY:LX-Office
DESCRIPTION:Referent: Peter Schmädicke\nInfo: http://www.six.linuxinfotag.de
 /62/detail/63
LOCATION:BZW/A152
DTSTART:20051029T114500Z
DTEND:20051029T141500Z
END:VEVENT
BEGIN:VEVENT
DTSTAMP:20260421T122815Z
UID:DREAMS-62_67
LAST-MODIFIED:20260421T122815Z
SUMMARY:ROCK Linux
DESCRIPTION:Referent: Benjamin Schieder\nInfo: http://www.six.linuxinfotag.d
 e/62/detail/67
LOCATION:WIL/A317
DTSTART:20051029T114500Z
DTEND:20051029T123000Z
END:VEVENT
BEGIN:VEVENT
DTSTAMP:20260421T122815Z
UID:DREAMS-62_56
LAST-MODIFIED:20260421T122815Z
SUMMARY:Erstellung und Bearbeitung von PDF-Dateien mit Linux-Programmen und 
 pdfLaTeX
DESCRIPTION:Referent: Stefan Lagotzki\nInfo: http://www.six.linuxinfotag.de/
 62/detail/56
LOCATION:BZW/A159
DTSTART:20051029T114500Z
DTEND:20051029T144500Z
END:VEVENT
BEGIN:VEVENT
DTSTAMP:20260421T122815Z
UID:DREAMS-62_33
LAST-MODIFIED:20260421T122815Z
SUMMARY:Kommandozeilen verstehen und effizient nutzen
DESCRIPTION:Referent: Axel Beckert\nInfo: http://www.six.linuxinfotag.de/62/
 detail/33
LOCATION:BZW/A153
DTSTART:20051029T114500Z
DTEND:20051029T144500Z
END:VEVENT
BEGIN:VEVENT
DTSTAMP:20260421T122815Z
UID:DREAMS-62_45
LAST-MODIFIED:20260421T122815Z
SUMMARY:GNOME
DESCRIPTION:Referent: Julius Bloch\nInfo: http://www.six.linuxinfotag.de/62/
 detail/45
LOCATION:TRE Physik-Hörsaal
DTSTART:20051029T114500Z
DTEND:20051029T123000Z
END:VEVENT
BEGIN:VEVENT
DTSTAMP:20260421T122815Z
UID:DREAMS-62_49
LAST-MODIFIED:20260421T122815Z
SUMMARY:Perl als Beispiel für eine freie Softwarekultur
DESCRIPTION:Referent: Steffen Schwigon\nInfo: http://www.six.linuxinfotag.de
 /62/detail/49
LOCATION:BZW/A154
DTSTART:20051029T114500Z
DTEND:20051029T131500Z
END:VEVENT
BEGIN:VEVENT
DTSTAMP:20260421T122815Z
UID:DREAMS-62_42
LAST-MODIFIED:20260421T122815Z
SUMMARY:Projektmanagement - eine Daueraufgabe
DESCRIPTION:Referent: Dr. Christian Böttger\nInfo: http://www.six.linuxinfot
 ag.de/62/detail/42
LOCATION:TRE Mathematik-Hörsaal
DTSTART:20051029T114500Z
DTEND:20051029T123000Z
END:VEVENT
BEGIN:VEVENT
DTSTAMP:20260421T122815Z
UID:DREAMS-62_61
LAST-MODIFIED:20260421T122815Z
SUMMARY:Surviving Vim - Vim für Anfänger
DESCRIPTION:Referent: Chris Friedhoff\nInfo: http://www.six.linuxinfotag.de/
 62/detail/61
LOCATION:BZW/A251
DTSTART:20051029T114500Z
DTEND:20051029T134500Z
END:VEVENT
BEGIN:VEVENT
DTSTAMP:20260421T122815Z
UID:DREAMS-62_35
LAST-MODIFIED:20260421T122815Z
SUMMARY:Go To Jail - Prozesse einsperren
DESCRIPTION:Referent: Christian Perle\nInfo: http://www.six.linuxinfotag.de/
 62/detail/35
LOCATION:BZW/A150
DTSTART:20051029T114500Z
DTEND:20051029T134500Z
END:VEVENT
BEGIN:VEVENT
DTSTAMP:20260421T122815Z
UID:DREAMS-62_70
LAST-MODIFIED:20260421T122815Z
SUMMARY:Wardriving - Tools im Überblick
DESCRIPTION:Referent: Henrik Heigl\nInfo: http://www.six.linuxinfotag.de/62/
 detail/70
LOCATION:TRE Mathematik-Hörsaal
DTSTART:20051029T124500Z
DTEND:20051029T133000Z
END:VEVENT
BEGIN:VEVENT
DTSTAMP:20260421T122815Z
UID:DREAMS-62_43
LAST-MODIFIED:20260421T122815Z
SUMMARY:KDE - Zwischen dem Tiger und den Nebeln von Avalon
DESCRIPTION:Referent: Tobias König\nInfo: http://www.six.linuxinfotag.de/62/
 detail/43
LOCATION:TRE Physik-Hörsaal
DTSTART:20051029T124500Z
DTEND:20051029T133000Z
END:VEVENT
BEGIN:VEVENT
DTSTAMP:20260421T122815Z
UID:DREAMS-62_65
LAST-MODIFIED:20260421T122815Z
SUMMARY:Kernel Graphics Interface - ein Ausweg aus dem Grafiktreiber-Chaos
DESCRIPTION:Referent: Olaf Buddenhagen\nInfo: http://www.six.linuxinfotag.de
 /62/detail/65
LOCATION:WIL/A317
DTSTART:20051029T124500Z
DTEND:20051029T133000Z
END:VEVENT
BEGIN:VEVENT
DTSTAMP:20260421T122815Z
UID:DREAMS-62_52
LAST-MODIFIED:20260421T122815Z
SUMMARY:SELinux in Red Hat Enterprise Linux 4
DESCRIPTION:Referent: Thorsten Scherf\nInfo: http://www.six.linuxinfotag.de/
 62/detail/52
LOCATION:TRE Mathematik-Hörsaal
DTSTART:20051029T134500Z
DTEND:20051029T143000Z
END:VEVENT
BEGIN:VEVENT
DTSTAMP:20260421T122815Z
UID:DREAMS-62_37
LAST-MODIFIED:20260421T122815Z
SUMMARY:Einführung in kryptographische Methoden
DESCRIPTION:Referent: Stefan Schumacher\nInfo: http://www.six.linuxinfotag.d
 e/62/detail/37
LOCATION:TRE Physik-Hörsaal
DTSTART:20051029T134500Z
DTEND:20051029T143000Z
END:VEVENT
BEGIN:VEVENT
DTSTAMP:20260421T122815Z
UID:DREAMS-62_66
LAST-MODIFIED:20260421T122815Z
SUMMARY:Konferenzplanung mit Pentabarf
DESCRIPTION:Referent: Sven Klemm\nInfo: http://www.six.linuxinfotag.de/62/de
 tail/66
LOCATION:WIL/A317
DTSTART:20051029T134500Z
DTEND:20051029T143000Z
END:VEVENT
BEGIN:VEVENT
DTSTAMP:20260421T122815Z
UID:DREAMS-62_72
LAST-MODIFIED:20260421T122815Z
SUMMARY:Skolelinux/Debian-Edu als Plattform für Freie Software in der\r\nSch
 ule
DESCRIPTION:Referent: everybody\nInfo: http://www.six.linuxinfotag.de/62/det
 ail/72
LOCATION:BZW A153
DTSTART:20051029T134500Z
DTEND:20051029T143000Z
END:VEVENT
BEGIN:VEVENT
DTSTAMP:20260421T122815Z
UID:DREAMS-62_71
LAST-MODIFIED:20260421T122815Z
SUMMARY:Mailsecurity for the masses
DESCRIPTION:Referent: Henrik Heigl\nInfo: http://www.six.linuxinfotag.de/62/
 detail/71
LOCATION:TRE Physik-Hörsaal
DTSTART:20051029T144500Z
DTEND:20051029T153000Z
END:VEVENT
BEGIN:VEVENT
DTSTAMP:20260421T122815Z
UID:DREAMS-62_59
LAST-MODIFIED:20260421T122815Z
SUMMARY:Shape it, Baby! Bandbreitenmanagement mit Freier Software
DESCRIPTION:Referent: Alien8\nInfo: http://www.six.linuxinfotag.de/62/detail
 /59
LOCATION:WIL/A317
DTSTART:20051029T144500Z
DTEND:20051029T153000Z
END:VEVENT
BEGIN:VEVENT
DTSTAMP:20260421T122815Z
UID:DREAMS-62_64
LAST-MODIFIED:20260421T122815Z
SUMMARY:GNU Hurd - Das UNIX-Prinzip jenseits alter Fesseln
DESCRIPTION:Referent: Olaf Buddenhagen\nInfo: http://www.six.linuxinfotag.de
 /62/detail/64
LOCATION:TRE Mathematik-Hörsaal
DTSTART:20051029T144500Z
DTEND:20051029T153000Z
END:VEVENT
BEGIN:VEVENT
DTSTAMP:20260421T122815Z
UID:DREAMS-62_54
LAST-MODIFIED:20260421T122815Z
SUMMARY:AUSGEFALLEN: GNOME-Hacking
DESCRIPTION:Referent: Sven Herzberg\nInfo: http://www.six.linuxinfotag.de/62
 /detail/54
LOCATION:WIL/A317
DTSTART:20051029T154500Z
DTEND:20051029T163000Z
END:VEVENT
BEGIN:VEVENT
DTSTAMP:20260421T122815Z
UID:DREAMS-62_48
LAST-MODIFIED:20260421T122815Z
SUMMARY:Nutzer motivieren - oder: Warum der BOFH (fast) nicht lustig ist
DESCRIPTION:Referent: Meike Reichle\nInfo: http://www.six.linuxinfotag.de/62
 /detail/48
LOCATION:TRE Mathematik-Hörsaal
DTSTART:20051029T154500Z
DTEND:20051029T163000Z
END:VEVENT
BEGIN:VEVENT
DTSTAMP:20260421T122815Z
UID:DREAMS-62_46
LAST-MODIFIED:20260421T122815Z
SUMMARY:How to pay back - Ein paar einfache Wege, seinem Projekt zu helfen
DESCRIPTION:Referent: Alexander Schmehl\nInfo: http://www.six.linuxinfotag.d
 e/62/detail/46
LOCATION:TRE Physik-Hörsaal
DTSTART:20051029T154500Z
DTEND:20051029T163000Z
END:VEVENT
END:VCALENDAR
